BEGIN:VCALENDAR
PRODID:-//Google Inc//Google Calendar 70.9054//EN
VERSION:2.0
CALSCALE:GREGORIAN
METHOD:CANCEL
BEGIN:VTIMEZONE
TZID:America/Denver
X-LIC-LOCATION:America/Denver
BEGIN:DAYLIGHT
TZOFFSETFROM:-0700
TZOFFSETTO:-0600
TZNAME:MDT
DTSTART:19700308T020000
RRULE:FREQ=YEARLY;BYMONTH=3;BYDAY=2SU
END:DAYLIGHT
BEGIN:STANDARD
TZOFFSETFROM:-0600
TZOFFSETTO:-0700
TZNAME:MST
DTSTART:19701101T020000
RRULE:FREQ=YEARLY;BYMONTH=11;BYDAY=1SU
END:STANDARD
END:VTIMEZONE
BEGIN:VEVENT
DTSTART;TZID=America/Denver:20260224T100000
DTEND;TZID=America/Denver:20260224T110000
DTSTAMP:20260220T224200Z
ORGANIZER;CN=Borries Demeler:mailto:demeler@gmail.com
UID:94ms9khl3ae8kqq5u5b87hkq8c@google.com
ATTENDEE;CUTYPE=INDIVIDUAL;ROLE=REQ-PARTICIPANT;PARTSTAT=ACCEPTED;CN=Borrie
 s Demeler;X-NUM-GUESTS=0:mailto:demeler@gmail.com
ATTENDEE;CUTYPE=INDIVIDUAL;ROLE=REQ-PARTICIPANT;PARTSTAT=NEEDS-ACTION;CN=sa
 eed mortezazadeh;X-NUM-GUESTS=0:mailto:s.mortezazadeh86@gmail.com
ATTENDEE;CUTYPE=INDIVIDUAL;ROLE=REQ-PARTICIPANT;PARTSTAT=ACCEPTED;CN=reece.
 martin@uleth.ca;X-NUM-GUESTS=0:mailto:reece.martin@uleth.ca
ATTENDEE;CUTYPE=INDIVIDUAL;ROLE=REQ-PARTICIPANT;PARTSTAT=NEEDS-ACTION;CN=Sa
 eed Mortezazadeh;X-NUM-GUESTS=0:mailto:saeed.mortezazadeh25@gmail.com
ATTENDEE;CUTYPE=INDIVIDUAL;ROLE=REQ-PARTICIPANT;PARTSTAT=ACCEPTED;CN=haben.
 gabir@uleth.ca;X-NUM-GUESTS=0:mailto:haben.gabir@uleth.ca
ATTENDEE;CUTYPE=INDIVIDUAL;ROLE=REQ-PARTICIPANT;PARTSTAT=NEEDS-ACTION;CN=de
 melerlab@biophysics.uleth.ca;X-NUM-GUESTS=0:mailto:demelerlab@biophysics.ul
 eth.ca
RECURRENCE-ID;TZID=America/Denver:20260224T100000
CREATED:20230509T162344Z
DESCRIPTION:
LAST-MODIFIED:20260220T224156Z
LOCATION:https://umontana.zoom.us/j/6485989001
SEQUENCE:9
STATUS:CANCELLED
SUMMARY:Demeler Lab Meeting
TRANSP:OPAQUE
END:VEVENT
END:VCALENDAR
